BEGIN:VCALENDAR
VERSION:2.0
PRODID:-//Szkoła Nowej Ewangelizacji Diecezji Toruńskiej - ECPv5.14.1//NONSGML v1.0//EN
CALSCALE:GREGORIAN
METHOD:PUBLISH
X-WR-CALNAME:Szkoła Nowej Ewangelizacji Diecezji Toruńskiej
X-ORIGINAL-URL:https://sne.torun.pl
X-WR-CALDESC:Wydarzenia dla Szkoła Nowej Ewangelizacji Diecezji Toruńskiej
REFRESH-INTERVAL;VALUE=DURATION:PT1H
X-Robots-Tag:noindex
X-PUBLISHED-TTL:PT1H
BEGIN:VTIMEZONE
TZID:Europe/Warsaw
BEGIN:DAYLIGHT
TZOFFSETFROM:+0100
TZOFFSETTO:+0200
TZNAME:CEST
DTSTART:20260329T010000
END:DAYLIGHT
BEGIN:STANDARD
TZOFFSETFROM:+0200
TZOFFSETTO:+0100
TZNAME:CET
DTSTART:20261025T010000
END:STANDARD
END:VTIMEZONE
BEGIN:VEVENT
DTSTART;TZID=Europe/Warsaw:20260702T110000
DTEND;TZID=Europe/Warsaw:20260705T150000
DTSTAMP:20260421T044420
CREATED:20260330T111414Z
LAST-MODIFIED:20260330T121245Z
UID:27173-1782990000-1783263600@sne.torun.pl
SUMMARY:KURS JAN. KURS DUCHOWOŚCI CHRZEŚCIJAŃSKIEJ. 2-5 LIPCA 2026 R.
DESCRIPTION:Uczestnikami kursu mogą być: osoby pełnoletnie\, które przeżyły kursy Nowe Życie i Emaus.\nTermin: 2 – 5 lipca 2026\nRozpoczęcie: czwartek\, 2 lipca\, g.11:00\, recepcja od g. 10:15\nZakończenie: niedziela\, 5 lipca\, ok. g. 15:00\nMiejsce: Parafia św. Józefa w Toruniu\, ul. Św. Józefa 23/35\, Kaplica Szkolna (wejście E pod kościołem).\nKoszt: 350 zł (W cenę wliczone są 4 obiady\, 3 kolacje\, kawiarenka\, koszty organizacyjne Pozostałe posiłki i ewentualne noclegi – we własnym zakresie).\nZgłoszenia: do 15 czerwca 2026 r. przez formularz https://forms.gle/btMymZqL9jei8VJKA\nWarunki przyjęcia na kurs:\n– wypełnienie formularza zgłoszeniowego\n– dokonanie przedpłaty w wysokości 150 zł na rachunek nr 41 1050 1979 1000 0022 8975 9645 należący do Wspólnota „Pieśń Nowa”; w tytule wpłaty prosimy napisać: kurs JAN 2026 oraz imię i nazwisko uczestnika.\nKurs prowadzi: SNE Diecezji Toruńskiej Św. Jana Umiłowanego Ucznia\, www.sne.torun.pl\nKontakt: tel. 668765296\, (prosimy o sms-y)\nUwaga:\n– W przypadku rezygnacji z kursu nie zwracamy przedpłaty.\n– Nie ma możliwości uczestniczenia w części kursu.\n– Przynieś: Pismo Święte (wersja papierowa)\, coś do notowania\, grający instrumenty muzyczne.\n– Noclegi we własnym zakresie. Ze względu na bliskość miejsca kursu rekomendujemy noclegi:\nDom Pielgrzyma\, ul. Św. Józefa 23\, Toruń\nInternat Zespołu Szkół Mechanicznych\, Elektrycznych i Elektronicznych\, ul. Św. Józefa 26\, Toruń\, tel. 518 435 622 \nO kursie JAN:\nJeżeli doświadczyłeś już Nowego Życia i odbyłeś podróż do Emaus pewnie pragniesz zostać uczniem Jezusa. Nie wiesz jak? Nie wiesz co to znaczy? Kurs Jan jest dla Ciebie. To czas całkowicie poświęcony na poznawanie i przebywanie z jedynym Mistrzem – Jezusem\, który pragnie kształtować Twoje serca na wzór Swego serca\, to czas słuchania i pogłębiania relacji z Chrystusem\, czas poznawania Jego pragnień względem Ciebie\, czas doświadczenia Jego mocy i miłości. Kurs ten ukazuje cechy i mentalność prawdziwego ucznia Jezusa\, którego serce On sam kształtuje w Eucharystii. Kurs skierowany jest do osób mających już pewne doświadczenie wiary i pragnących żyć jak Jezus. Uczy przeżywania bliskiej relacji z Jezusem-Mistrzem w codzienności. Formuje postawę ucznia Jezusa\, wiernego swojemu Mistrzowi\, pozostającego z Nim w bliskiej relacji.
URL:https://sne.torun.pl/kurs/27173/
LOCATION:Toruń\, parafia św. Józefa
ATTACH;FMTTYPE=image/jpeg:https://sne.torun.pl/wp-content/uploads/2026/03/2026-JAN-obrazek.jpg
END:VEVENT
BEGIN:VEVENT
DTSTART;TZID=Europe/Warsaw:20260709T170000
DTEND;TZID=Europe/Warsaw:20260712T150000
DTSTAMP:20260421T044420
CREATED:20260330T115832Z
LAST-MODIFIED:20260330T121442Z
UID:27179-1783616400-1783868400@sne.torun.pl
SUMMARY:KURS MOJŻESZ. FORMACJA UWALNIAJĄCYCH. 9 - 12 lipca 2026
DESCRIPTION:KURS MOJŻESZ – FORMACJA UWALNIAJĄCYCH\nUczestnikami kursu mogą być pełnoletni członkowie katolickich wspólnot formacyjnych\, którzy przeżyli kursy: Nowe Życie\, Emaus\, Jan.\nTermin: 9 – 12 lipca 2026 r.\nRozpoczęcie: czwartek\, 9 lipca\, g. 17:00 Msza Święta (recepcja od g.16:30)\nZakończenie: niedziela\, 12 lipca\, ok. g. 15:00\nMiejsce: Parafia św. Józefa w Toruniu\, ul. Św. Józefa 23/35\, Kaplica Szkolna (wejście E pod kościołem).\nZgłoszenia: do 28 czerwca 2026 r. przez formularz https://forms.gle/YAh5JPL88sNUmUnE6\nKoszt: 350 zł (W cenę wliczone są 3 obiady\, 3 kolacje\, przerwy kawowe\, koszty organizacyjne. Pozostałe posiłki i ewentualne noclegi – we własnym zakresie).\nWarunki przyjęcia na kurs:\n– wypełnienie formularza zgłoszeniowego\n– dokonanie przedpłaty w wysokości 150 zł na rachunek nr 41 1050 1979 1000 0022 8975 9645 należący do Wspólnota „Pieśń Nowa”; w tytule wpłaty prosimy napisać: Kurs MOJŻESZ 2026\, imię i nazwisko uczestnika.\nKurs prowadzi: SNE Diecezji Toruńskiej Św. Jana Umiłowanego Ucznia\, www.sne.torun.pl\nKontakt: tel. 515 276 456 (prosimy sms-y)\nUwaga:\n– W przypadku rezygnacji z kursu nie zwracamy przedpłaty.\n– Nie ma możliwości uczestniczenia w części kursu.\n– Przynieś Pismo Święte (wersja papierowa)\, coś do notowania\, grający instrumenty muzyczne.\n– Noclegi we własnym zakresie. Ze względu na bliskość miejsca kursu rekomendujemy noclegi:\nDom Pielgrzyma\, ul. Św. Józefa 23\, Toruń\nInternat Zespołu Szkół Mechanicznych\, Elektrycznych i Elektronicznych\, ul. Św. Józefa 26\, Toruń\, tel. 518 435 622 \nO kursie MOJŻESZ:\nNa kursie Mojżesz przejdziesz z tym pasterzem przez 120 lat jego życia. Podczas tej drogi\, jak w lustrze\, rozpoznasz swoją twarz\, ponieważ w każdym z nas jest Mojżesz. Utożsamimy się z tym\, który stał się wyzwolicielem swojego ludu. Kurs ukazuje\, jak stać się liderem otwartym na plan Boży\, pracującym we wspólnocie przyjaciół. Śledząc życie Mojżesza możemy zobaczyć samych siebie oraz nauczyć się\, jak radzić sobie w trudnych sytuacjach i wychodzić „poza pustynię”. Mojżesz jest liderem\, który sam będąc wolny\, może uwalniać swój lud z niewoli i prowadzić go ku ziemi obiecanej\, nie zapominając przy tym o przygotowaniu swego następcy\, który kontynuowałby dzieło wyzwolenia. Kurs Mojżesz to kurs duchowości.
URL:https://sne.torun.pl/kurs/kurs-mojzesz-formacja-uwalniajacych-9-12-lipca-2026/
LOCATION:Toruń\, parafia św. Józefa
ATTACH;FMTTYPE=image/jpeg:https://sne.torun.pl/wp-content/uploads/2026/03/mojzesz-obrazek-1.jpg
END:VEVENT
END:VCALENDAR